BEGIN:VCALENDAR
VERSION:2.0
PRODID:-//wp-events-plugin.com//7.2.3.1//EN
TZID:Europe/Berlin
X-WR-TIMEZONE:Europe/Berlin
BEGIN:VEVENT
UID:26-515@antifaschismusbleibtnotwendig.rosenheim.social
DTSTART;TZID=Europe/Berlin:20230623T200000
DTEND;TZID=Europe/Berlin:20230623T234500
DTSTAMP:20230417T153702Z
URL:https://antifaschismusbleibtnotwendig.rosenheim.social/events/soli-kon
 zert/
SUMMARY:Soli-Konzert
DESCRIPTION:Fr\, 23.06. | 20:00 Uhr\n\nAsta Kneipe\, Hubertusstr. 1\, Rosen
 heim\n\nSoli-Konzert\n\nLive-Konzert\n\nOrganisiert von: AStA Rosenheim\n\
 nIn lockerer Atmosphäre wird Raum für Begegnung gestellt. Dies im Rahmen
  eines Live-Konzertes. Der Eintritts-Erlös wird zu 100% an „No ROpressi
 on“ gespendet\, welches die Einnahmen nutzt\, um progressiv politisch Ak
 tiven rechtlich beiseite zu stehen. Nutzt den Raum\, um Involvierte und In
 teressierte besser kennen zu lernen.
LOCATION:asta Kneipe\, Hubertrusstr 1\, Rosenheim\, Bayern\, Deutschland
GEO:47.8552153;12.110094900000036
X-APPLE-STRUCTURED-LOCATION;VALUE=URI;X-ADDRESS=Hubertrusstr 1\, Rosenheim\
 , Bayern\, Deutschland;X-APPLE-RADIUS=100;X-TITLE=asta Kneipe:geo:47.85521
 53,12.110094900000036
END:VEVENT
BEGIN:VTIMEZONE
TZID:Europe/Berlin
X-LIC-LOCATION:Europe/Berlin
BEGIN:DAYLIGHT
DTSTART:20230326T030000
TZOFFSETFROM:+0100
TZOFFSETTO:+0200
TZNAME:CEST
END:DAYLIGHT
END:VTIMEZONE
END:VCALENDAR